BEGIN:VCALENDAR
VERSION:2.0
PRODID:-//Doornrandje and Laezonia Community Safety Sector Forum - ECPv6.15.20//NONSGML v1.0//EN
CALSCALE:GREGORIAN
METHOD:PUBLISH
X-ORIGINAL-URL:https://dlssf.co.za
X-WR-CALDESC:Events for Doornrandje and Laezonia Community Safety Sector Forum
REFRESH-INTERVAL;VALUE=DURATION:PT1H
X-Robots-Tag:noindex
X-PUBLISHED-TTL:PT1H
BEGIN:VTIMEZONE
TZID:UTC
BEGIN:STANDARD
TZOFFSETFROM:+0000
TZOFFSETTO:+0000
TZNAME:UTC
DTSTART:20210101T000000
END:STANDARD
END:VTIMEZONE
BEGIN:VTIMEZONE
TZID:Africa/Johannesburg
BEGIN:STANDARD
TZOFFSETFROM:+0200
TZOFFSETTO:+0200
TZNAME:SAST
DTSTART:20210101T000000
END:STANDARD
END:VTIMEZONE
BEGIN:VEVENT
DTSTART;TZID=UTC:20220813T083000
DTEND;TZID=UTC:20220813T113000
DTSTAMP:20260424T175639
CREATED:20220730T083053Z
LAST-MODIFIED:20220803T194659Z
UID:775-1660379400-1660390200@dlssf.co.za
SUMMARY:Snare Walk Saturday 13 August 2022
DESCRIPTION:Place: The Sheds @ Birdsong\, Gemstone Road off the R511\, Crocodile River Reserve. \nContact number: 076 247-7013. \nThe group will be leaving at 8h30 sharp. \nAny questions can be sent to: admin@crocodileriverreserve.co.za. Spare another animal days of suffering just by giving of your time! \nBook your spot for our upcoming snare walk at http://crocodileriverreserve.co.za/event/snare-walk-august-2022/ \n  \nANIMAL SNARES ARE ILLEGAL AND CONSTITUTE ENVIRONMENTAL CRIMES \nHunting with snares is specified as a prohibited hunting method in terms of the Nature Conservation Ordinance No. 19 of 1974\, specifically section 29 (d) \n \nScan QR Code with your cellular phone for the location of the Snare Hunt or use the Google Map link below. \nhttps://goo.gl/maps/bv8CnbLDYh8GYJBR8 \n  \n  \nViews: 194 Share this:\n				Email a link to a friend (Opens in new window)\n				Email\n			\n				Print (Opens in new window)\n				Print\n			\n				Share on X (Opens in new window)\n				X\n			\n				Share on Facebook (Opens in new window)\n				Facebook\n			\n				Share on WhatsApp (Opens in new window)\n				WhatsApp\n			\n				Share on Telegram (Opens in new window)\n				Telegram\n			Like this:Like Loading...
URL:https://dlssf.co.za/event/snare-walk-saturday-13-august-2022/
LOCATION:The Sheds\, Doornrandje\, Gauteng\, South Africa
CATEGORIES:Environmental Crimes
ATTACH;FMTTYPE=image/jpeg:https://dlssf.co.za/wp-content/uploads/2022/07/WhatsApp-Image-2022-07-27-at-1.43.56-PM.jpeg
ORGANIZER;CN="Crocodile River Reserve":MAILTO:admin@crocodileriverreserve.co.za
END:VEVENT
BEGIN:VEVENT
DTSTART;TZID=Africa/Johannesburg:20220805T210000
DTEND;TZID=Africa/Johannesburg:20220805T230000
DTSTAMP:20260424T175639
CREATED:20220801T193723Z
LAST-MODIFIED:20220806T173147Z
UID:879-1659733200-1659740400@dlssf.co.za
SUMMARY:Community Patrol with SAPS and Security
DESCRIPTION:  \nJoin members of the DLSSF\, SAPS and Security Providers in an evening conducting Blue Light patrols in Laezonia and Doornrandje. \n  \n \nViews: 194 Share this:\n				Email a link to a friend (Opens in new window)\n				Email\n			\n				Print (Opens in new window)\n				Print\n			\n				Share on X (Opens in new window)\n				X\n			\n				Share on Facebook (Opens in new window)\n				Facebook\n			\n				Share on WhatsApp (Opens in new window)\n				WhatsApp\n			\n				Share on Telegram (Opens in new window)\n				Telegram\n			Like this:Like Loading...
URL:https://dlssf.co.za/event/community-patrol-with-saps-and-security/
LOCATION:Skyview Garage\, https://goo.gl/maps/aaqqiemjHx22Q6xg8\, Gauteng\, South Africa
CATEGORIES:DLSSF
ATTACH;FMTTYPE=image/png:https://dlssf.co.za/wp-content/uploads/2022/08/weneedyou2.png
ORGANIZER;CN="DLSSF":MAILTO:secretary@dlssf.co.za
END:VEVENT
END:VCALENDAR